BEGIN:VCALENDAR
VERSION:2.0
PRODID:-//Kulturkreis Hohen Neuendorf - ECPv6.15.20//NONSGML v1.0//EN
CALSCALE:GREGORIAN
METHOD:PUBLISH
X-WR-CALNAME:Kulturkreis Hohen Neuendorf
X-ORIGINAL-URL:https://www.kulturkreis-hn.de
X-WR-CALDESC:Veranstaltungen für Kulturkreis Hohen Neuendorf
REFRESH-INTERVAL;VALUE=DURATION:PT1H
X-Robots-Tag:noindex
X-PUBLISHED-TTL:PT1H
BEGIN:VTIMEZONE
TZID:Europe/Berlin
BEGIN:DAYLIGHT
TZOFFSETFROM:+0100
TZOFFSETTO:+0200
TZNAME:CEST
DTSTART:20250330T010000
END:DAYLIGHT
BEGIN:STANDARD
TZOFFSETFROM:+0200
TZOFFSETTO:+0100
TZNAME:CET
DTSTART:20251026T010000
END:STANDARD
BEGIN:DAYLIGHT
TZOFFSETFROM:+0100
TZOFFSETTO:+0200
TZNAME:CEST
DTSTART:20260329T010000
END:DAYLIGHT
BEGIN:STANDARD
TZOFFSETFROM:+0200
TZOFFSETTO:+0100
TZNAME:CET
DTSTART:20261025T010000
END:STANDARD
BEGIN:DAYLIGHT
TZOFFSETFROM:+0100
TZOFFSETTO:+0200
TZNAME:CEST
DTSTART:20270328T010000
END:DAYLIGHT
BEGIN:STANDARD
TZOFFSETFROM:+0200
TZOFFSETTO:+0100
TZNAME:CET
DTSTART:20271031T010000
END:STANDARD
END:VTIMEZONE
BEGIN:VEVENT
DTSTART;TZID=Europe/Berlin:20260110T100000
DTEND;TZID=Europe/Berlin:20260110T160000
DTSTAMP:20260421T114940
CREATED:20251126T075259Z
LAST-MODIFIED:20251126T081028Z
UID:5746-1768039200-1768060800@www.kulturkreis-hn.de
SUMMARY:Offener Sonnabend des Geschichtskreises
DESCRIPTION:in der Kulturwerkstatt Karl-Marx-Straße 24 \nAusstellung geöffnet – jeweils von 10 bis 16 Uhr \nAusstellung zur Ortsgeschichte von Hohen Neuendorf\, Bergfelde\, Borgsdorf und Stolpe; Einsichtnahme in Bücher und andere Materialien sowie Gespräche mit den Leuten des Geschichtskreises. \nEintritt frei – Spenden willkommen
URL:https://www.kulturkreis-hn.de/veranstaltung/offener-sonnabend-des-geschichtskreises-januar2026/
LOCATION:Kulturwerkstatt\, Karl-Marx-Str. 24\, Hohen Neuendorf\, 16540
ATTACH;FMTTYPE=image/jpeg:https://www.kulturkreis-hn.de/wp-content/uploads/2023/04/logo_geschichtskeis_alternativ.jpg
END:VEVENT
END:VCALENDAR