BEGIN:VCALENDAR
VERSION:2.0
PRODID:-//Kulturkreis Hohen Neuendorf - ECPv6.15.20//NONSGML v1.0//EN
CALSCALE:GREGORIAN
METHOD:PUBLISH
X-WR-CALNAME:Kulturkreis Hohen Neuendorf
X-ORIGINAL-URL:https://www.kulturkreis-hn.de
X-WR-CALDESC:Veranstaltungen für Kulturkreis Hohen Neuendorf
REFRESH-INTERVAL;VALUE=DURATION:PT1H
X-Robots-Tag:noindex
X-PUBLISHED-TTL:PT1H
BEGIN:VTIMEZONE
TZID:Europe/Berlin
BEGIN:DAYLIGHT
TZOFFSETFROM:+0100
TZOFFSETTO:+0200
TZNAME:CEST
DTSTART:20250330T010000
END:DAYLIGHT
BEGIN:STANDARD
TZOFFSETFROM:+0200
TZOFFSETTO:+0100
TZNAME:CET
DTSTART:20251026T010000
END:STANDARD
BEGIN:DAYLIGHT
TZOFFSETFROM:+0100
TZOFFSETTO:+0200
TZNAME:CEST
DTSTART:20260329T010000
END:DAYLIGHT
BEGIN:STANDARD
TZOFFSETFROM:+0200
TZOFFSETTO:+0100
TZNAME:CET
DTSTART:20261025T010000
END:STANDARD
BEGIN:DAYLIGHT
TZOFFSETFROM:+0100
TZOFFSETTO:+0200
TZNAME:CEST
DTSTART:20270328T010000
END:DAYLIGHT
BEGIN:STANDARD
TZOFFSETFROM:+0200
TZOFFSETTO:+0100
TZNAME:CET
DTSTART:20271031T010000
END:STANDARD
END:VTIMEZONE
BEGIN:VEVENT
DTSTART;TZID=Europe/Berlin:20260116T190000
DTEND;TZID=Europe/Berlin:20260116T190000
DTSTAMP:20260421T114813
CREATED:20251126T081324Z
LAST-MODIFIED:20251126T081324Z
UID:5762-1768590000-1768590000@www.kulturkreis-hn.de
SUMMARY:Literarisch – Kulinarisch … Es geht weiter (AG Buchzeit)
DESCRIPTION:Wir servieren die nächste Ausgabe unseres Genussprogramms für Kopf und Gaumen! \nFreuen Sie sich auf Geschichten rund um den Rock’n’Rollmops\, Geständnisse eines Kochs\, Gastrologik\, Currywurst\, Kachkeis\, ein unmögliches Nudelrezept – und erfahren Sie\, wie man Kräuterlikör aus dem Bauchnabel trinkt (natürlich nur theoretisch … oder?). \nZwischen den literarischen Häppchen mixt Ihnen Bjarne einen gepflegten Drink – stilecht\, charmant und garantiert geschmackvoll. \nKommen Sie vorbei\, wenn Literatur auf Lebenslust trifft – ein Abend zum Schmunzeln\, Schlürfen und Staunen! \nUm Voranmeldung wird gebeten: 0160 9628 7858 oder ingrid.gabriel@kulturkreis-hn.de \nPreis: 6 € (erm. 4 €) – nur Abendkasse \nFoto & Bildrechte: adserbaijan_stockers auf freepik.jpg
URL:https://www.kulturkreis-hn.de/veranstaltung/literarisch-kulinarisch-es-geht-weiter-ag-buchzeit/
LOCATION:Schwarzer Walfisch\, Schönfließer Str. 56\, Hohen Neuendorf\, 16540
ATTACH;FMTTYPE=image/jpeg:https://www.kulturkreis-hn.de/wp-content/uploads/2025/11/adserbaijan_stockers-auf-freepik-scaled.jpg
END:VEVENT
END:VCALENDAR