BEGIN:VCALENDAR
VERSION:2.0
PRODID:-//Kulturkreis Hohen Neuendorf - ECPv6.15.20//NONSGML v1.0//EN
CALSCALE:GREGORIAN
METHOD:PUBLISH
X-ORIGINAL-URL:https://www.kulturkreis-hn.de
X-WR-CALDESC:Veranstaltungen für Kulturkreis Hohen Neuendorf
REFRESH-INTERVAL;VALUE=DURATION:PT1H
X-Robots-Tag:noindex
X-PUBLISHED-TTL:PT1H
BEGIN:VTIMEZONE
TZID:Europe/Berlin
BEGIN:DAYLIGHT
TZOFFSETFROM:+0100
TZOFFSETTO:+0200
TZNAME:CEST
DTSTART:20250330T010000
END:DAYLIGHT
BEGIN:STANDARD
TZOFFSETFROM:+0200
TZOFFSETTO:+0100
TZNAME:CET
DTSTART:20251026T010000
END:STANDARD
BEGIN:DAYLIGHT
TZOFFSETFROM:+0100
TZOFFSETTO:+0200
TZNAME:CEST
DTSTART:20260329T010000
END:DAYLIGHT
BEGIN:STANDARD
TZOFFSETFROM:+0200
TZOFFSETTO:+0100
TZNAME:CET
DTSTART:20261025T010000
END:STANDARD
BEGIN:DAYLIGHT
TZOFFSETFROM:+0100
TZOFFSETTO:+0200
TZNAME:CEST
DTSTART:20270328T010000
END:DAYLIGHT
BEGIN:STANDARD
TZOFFSETFROM:+0200
TZOFFSETTO:+0100
TZNAME:CET
DTSTART:20271031T010000
END:STANDARD
END:VTIMEZONE
BEGIN:VEVENT
DTSTART;TZID=Europe/Berlin:20260123T190000
DTEND;TZID=Europe/Berlin:20260123T190000
DTSTAMP:20260423T105210
CREATED:20251126T082304Z
LAST-MODIFIED:20251126T082436Z
UID:5769-1769194800-1769194800@www.kulturkreis-hn.de
SUMMARY:Verdammt weit weg – Als Entwicklungshelfer in Afrika
DESCRIPTION:In den 1980er-Jahren lebte und arbeitete Winfried Hawran im Auftrag des Deutschen Entwicklungsdienstes (DED) im Sudan und in Simbabwe. In seinem Vortrag berichtet er von dieser prägenden Zeit – von seiner Tätigkeit als Lehrer\, den besonderen Herausforderungen des Alltags auf dem Land und den Begegnungen mit den Menschen Afrikas. \nMit eindrucksvollen Bildern und persönlichen Erinnerungen zeichnet Hawran ein authentisches\, lebendiges Bild des afrikanischen Kontinents. Ergänzt wird der Vortrag durch Reiseerlebnisse aus dem südlichen Afrika\, aus Kenia und dem Sudan – eine fesselnde Schilderung\, die tiefe Einblicke in das Leben\, die Vielfalt und die Realität Afrikas bietet. \nPreis: 6 € (erm. 4 €) – nur Abendkasse \nBildrecht: privat
URL:https://www.kulturkreis-hn.de/veranstaltung/verdammt-weit-weg-als-entwicklungshelfer-in-afrika/
LOCATION:Remise d. Kulturkreises\, Karl-Marx-Str. 24\, Hohen Neuendorf\, 16540
ATTACH;FMTTYPE=image/jpeg:https://www.kulturkreis-hn.de/wp-content/uploads/2025/11/Hawran_Afrika_1-scaled.jpg
END:VEVENT
END:VCALENDAR