BEGIN:VCALENDAR
VERSION:2.0
PRODID:-//Kulturkreis Hohen Neuendorf - ECPv6.15.20//NONSGML v1.0//EN
CALSCALE:GREGORIAN
METHOD:PUBLISH
X-WR-CALNAME:Kulturkreis Hohen Neuendorf
X-ORIGINAL-URL:https://www.kulturkreis-hn.de
X-WR-CALDESC:Veranstaltungen für Kulturkreis Hohen Neuendorf
REFRESH-INTERVAL;VALUE=DURATION:PT1H
X-Robots-Tag:noindex
X-PUBLISHED-TTL:PT1H
BEGIN:VTIMEZONE
TZID:Europe/Berlin
BEGIN:DAYLIGHT
TZOFFSETFROM:+0100
TZOFFSETTO:+0200
TZNAME:CEST
DTSTART:20250330T010000
END:DAYLIGHT
BEGIN:STANDARD
TZOFFSETFROM:+0200
TZOFFSETTO:+0100
TZNAME:CET
DTSTART:20251026T010000
END:STANDARD
BEGIN:DAYLIGHT
TZOFFSETFROM:+0100
TZOFFSETTO:+0200
TZNAME:CEST
DTSTART:20260329T010000
END:DAYLIGHT
BEGIN:STANDARD
TZOFFSETFROM:+0200
TZOFFSETTO:+0100
TZNAME:CET
DTSTART:20261025T010000
END:STANDARD
BEGIN:DAYLIGHT
TZOFFSETFROM:+0100
TZOFFSETTO:+0200
TZNAME:CEST
DTSTART:20270328T010000
END:DAYLIGHT
BEGIN:STANDARD
TZOFFSETFROM:+0200
TZOFFSETTO:+0100
TZNAME:CET
DTSTART:20271031T010000
END:STANDARD
END:VTIMEZONE
BEGIN:VEVENT
DTSTART;TZID=Europe/Berlin:20260306T183000
DTEND;TZID=Europe/Berlin:20260306T183000
DTSTAMP:20260423T131846
CREATED:20260213T070703Z
LAST-MODIFIED:20260213T070703Z
UID:6056-1772821800-1772821800@www.kulturkreis-hn.de
SUMMARY:„Afghanistan: Strich drunter?“ (AG Brot & Salz)
DESCRIPTION:„Afghanistan: Strich drunter?“\nThomas Ruttig über die Lage im Land und die Rolle Deutschlands \nDer AG Brot und Salz im Kulturkreis Hohen Neuendorf e. V. lädt den Journalisten und Afghanistan-Experten Thomas Ruttig ein. \nAm 6. März 2026 um 18:30 Uhr spricht er im Mehrzweckraum der Stadthalle Hohen Neuendorf (Am Rathaus 1). \nIm Mittelpunkt steht die Frage „Afghanistan: Strich drunter?“ sowie Ruttigs Einschätzung zur Lage im Land und zur Rolle Deutschlands. Aktuell verweigert Deutschland vielen Afghan*innen mit Aufnahmezusage aus Pakistan die Einreise – betroffen sind über 1.100 Menschen\, darunter viele Frauen. Zugleich hat sich in Afghanistan ein Regime etabliert\, das Frauen und Mädchen systematisch entrechtet. Gibt es dennoch „Risse\, durch die das Licht eindringt“? \nThomas Ruttig lebte 13 Jahre in Afghanistan\, arbeitete u. a. für die deutsche Botschaft\, die UNO und die EU und ist Mitbegründer des Afghanistan Analysts Network. Heute bloggt er zu Afghanistan- und Asylfragen und schreibt für die taz. \nEintritt frei – Spenden willkommen.\n\nKontakt: brotundsalz@kulturkreis-hn.de \nFoto: Demo in Kabul gegen Wahlfälschungen (Obaid Ali/AAN)
URL:https://www.kulturkreis-hn.de/veranstaltung/afghanistan-strich-drunter-ag-brot-salz/
LOCATION:Stadthalle\, Am Rathaus 1\, Hohen Neuendorf\, 16540
ATTACH;FMTTYPE=image/jpeg:https://www.kulturkreis-hn.de/wp-content/uploads/2026/02/4E95BAAB-F467-4073-ABC7-77C4C019B28B-P1000335.jpeg
END:VEVENT
BEGIN:VEVENT
DTSTART;TZID=Europe/Berlin:20260308T153000
DTEND;TZID=Europe/Berlin:20260308T153000
DTSTAMP:20260423T131846
CREATED:20251127T140252Z
LAST-MODIFIED:20260127T131909Z
UID:5805-1772983800-1772983800@www.kulturkreis-hn.de
SUMMARY:Frühlingskonzert Mädchenchor Hohen Neuendorf & Frauenchor musicam amantes e.V.
DESCRIPTION:Tauchen Sie ein in ein musikalisches Frühlingserlebnis voller Wärme und Vielklang! Der Mädchenchor Hohen Neuendorf und der Frauenchor musicam amantes präsentieren ein abwechslungsreiches Programm aus traditionellen Liedern\, modernen Klängen und berührenden Chorstücken. \nMusicam amantes\, seit 1972 aktiv und seit vielen Jahren in Hohen Neuendorf zuhause\, trifft auf die frische Energie des jungen Mädchenchors mit rund dreißig Sängerinnen. Beide Chöre stehen für Gemeinschaft\, Leidenschaft und Freude am gemeinsamen Singen. \nFreuen Sie sich auf ein Konzert voller musikalischer Lebendigkeit – und auf den Frühling im Ohr! \nEintritt frei – Spenden willkommen \nBildnachweis: privat
URL:https://www.kulturkreis-hn.de/veranstaltung/fruehlingskonzert-maedchenchor-hohen-neuendorf-frauenchor-musicam-amantes-e-v/
LOCATION:Ratssaal\, Oranienburger Str. 2\, Hohen Neuendorf\, 16540
ATTACH;FMTTYPE=image/jpeg:https://www.kulturkreis-hn.de/wp-content/uploads/2025/11/MCHN-2024-Kopie-scaled.jpg
END:VEVENT
BEGIN:VEVENT
DTSTART;TZID=Europe/Berlin:20260308T170000
DTEND;TZID=Europe/Berlin:20260308T170000
DTSTAMP:20260423T131846
CREATED:20251127T140523Z
LAST-MODIFIED:20251127T140614Z
UID:5809-1772989200-1772989200@www.kulturkreis-hn.de
SUMMARY:Cross Over und Achorpella im LabSaal
DESCRIPTION:Freuen Sie sich auf ein besonderes musikalisches Erlebnis! \nDer Chor Cross Over lädt gemeinsam mit dem Hermsdorfer Ensemble Achorpella zu einem abwechslungsreichen Konzert in den LabSaal Lübars ein. Zwei Chöre – ein Abend voller Klangfarben\, Energie und Emotionen! \nPreis: 15 € (erm. 13 € | 7 € für Mitglieder des Freundeskreises Labsaal Lübars) \nBildrechte: Frank Kiehne
URL:https://www.kulturkreis-hn.de/veranstaltung/cross-over-und-achorpella-im-labsaal/
LOCATION:LabSaal – Berlin\, Alt Lübars 8\, Berlin\, 13469
ATTACH;FMTTYPE=image/jpeg:https://www.kulturkreis-hn.de/wp-content/uploads/2025/11/XO_April-2025.jpg
END:VEVENT
BEGIN:VEVENT
DTSTART;TZID=Europe/Berlin:20260314T140000
DTEND;TZID=Europe/Berlin:20260314T140000
DTSTAMP:20260423T131846
CREATED:20251126T080447Z
LAST-MODIFIED:20251126T081018Z
UID:5756-1773496800-1773496800@www.kulturkreis-hn.de
SUMMARY:Spaziergang entlang der Hochwaldallee (AG Geschichtskreis)
DESCRIPTION:Spaziergang entlang der Hochwaldallee \nDie Straße Nr. 1 in der Alten Kolonie mit ihrer Bau- und Ansiedlungsgeschichte \nTreff: Hochwaldallee 1 / Ecke Schönfließer Straße (Bergfelde) \nFührung frei – Spenden willkommen \nBildnachweis: Postkartenarchiv Geschichtskreis
URL:https://www.kulturkreis-hn.de/veranstaltung/spaziergang-entlang-der-hochwaldallee/
LOCATION:Hochwaldallee 1\, Hochwaldallee / Ecke Schönfließer Straße\, Hohen Neuendorf\, 16562
ATTACH;FMTTYPE=image/jpeg:https://www.kulturkreis-hn.de/wp-content/uploads/2025/11/B2-Hochwaldalle-um-1940-Postkarte-scaled.jpg
END:VEVENT
BEGIN:VEVENT
DTSTART;TZID=Europe/Berlin:20260318T173000
DTEND;TZID=Europe/Berlin:20260318T173000
DTSTAMP:20260423T131847
CREATED:20251127T140820Z
LAST-MODIFIED:20251130T112033Z
UID:5816-1773855000-1773855000@www.kulturkreis-hn.de
SUMMARY:Gartenglück voraus: Tipps rund um die Gartenplanung 2026 (AG Gartenlust)
DESCRIPTION:Lust auf frische Ideen\, Inspiration und praktische Tipps für das neue Gartenjahr? Ob blühende Beete\, gemütliche Sitzecken oder nachhaltige Pflanzkonzepte – die AG Gartenlust gibt Anregungen\, wie sich Gartenräume mit Kreativität und Liebe zum Detail gestalten lassen. \nDie Hobbygärtnerinnen geben ihre Erfahrungen in einem praxisnahen Vortrag weiter und stellen ihre Lieblingssachbücher zum Thema vor. \nEintritt frei – Spenden willkommen
URL:https://www.kulturkreis-hn.de/veranstaltung/gartenglueck-voraus-tipps-rund-um-die-gartenplanung-2026/
LOCATION:Remise d. Kulturkreises\, Karl-Marx-Str. 24\, Hohen Neuendorf\, 16540
ATTACH;FMTTYPE=image/jpeg:https://www.kulturkreis-hn.de/wp-content/uploads/2023/04/logo_gartenlust.jpg
END:VEVENT
BEGIN:VEVENT
DTSTART;TZID=Europe/Berlin:20260321T200000
DTEND;TZID=Europe/Berlin:20260321T200000
DTSTAMP:20260423T131847
CREATED:20251130T110012Z
LAST-MODIFIED:20260220T153754Z
UID:5829-1774123200-1774123200@www.kulturkreis-hn.de
SUMMARY:Jazz im Rathaus – Meinolf Udo Saggel Quartett (KULTURsaalON)
DESCRIPTION:Das Meinolf Udo Saggel Quartett (Swing – Modern – Brasil – Jazz) feiert die Musik von Vince Guaraldi\, einem US-amerikanischen Jazzmusiker und -komponisten\, der unter anderem die Musik für die weltweit erfolgreiche Fernsehserie „Die Peanuts“ schrieb. \nSeine Musik ist fein nuancierter Jazz – changierend zwischen zarter Romantik\, Anflügen von Melancholie und unbeschwerten\, heiteren Melodien. \nSie wirkt durch und durch beseelt und tief emotional. \nEinlass ab 19:00 Uhr \nTickets im Vorverkauf: 18 Euro (erm. 13 Euro) + VVK-Gebühr | AK + 2 Euro \nHinweise zu den AGB und Ermäßigungen \nVorverkauf online sowie in der Buchhandlung Behm\, Schönfließer Straße 9\, 16540 Hohen Neuendorf \n\nTickets bestellen:\nEs gelten die Allgemeinen Geschäftsbedingungen und Ermäßigungen des Kulturkreis Hohen Neuendorf e.V.
URL:https://www.kulturkreis-hn.de/veranstaltung/jazz-im-rathaus-meinolf-udo-saggel-quartett/
LOCATION:Rathaus Hohen Neuendorf\, Oranienburger Str. 2\, Hohen Neuendorf\, 16540
ATTACH;FMTTYPE=image/jpeg:https://www.kulturkreis-hn.de/wp-content/uploads/2025/11/hk-Meinolf-Udo-Saggel-Quartett-08.12.2024-scaled.jpg
END:VEVENT
BEGIN:VEVENT
DTSTART;TZID=Europe/Berlin:20260322T160000
DTEND;TZID=Europe/Berlin:20260322T160000
DTSTAMP:20260423T131847
CREATED:20260127T130112Z
LAST-MODIFIED:20260127T130112Z
UID:6020-1774195200-1774195200@www.kulturkreis-hn.de
SUMMARY:Mitsingkäffchen im Anno 1900 (AG Gänseblümchen)
DESCRIPTION:Zum dritten Mal lädt das Vokalensemble Gänseblümchen fröhliche Menschen zum gemütlichen Mitsingkäffchen ins Anno 1900 in Hohen Neuendorf ein. \nIm Gegensatz zu unserer Mitsingparty singen wir gemeinsam im Sitzen die stimmungsvollen deutsche Schlager aus den 50er\, 60er & 70er Jahren – viele Texte kennt ihr bestimmt noch\, und natürlich werden sie wieder vorgegeben. \nTipp: Während des Singens wird nicht bedient\, also kommt am besten vor 16 Uhr und deckt euch mit Kaffee & Kuchen ein. \n🎵 Ölt eure Stimmen – wir freuen uns auf euch! 💛 \nBildrechte: AG Gänseblümchen 
URL:https://www.kulturkreis-hn.de/veranstaltung/mitsingkaeffchen-im-anno-1900-ag-gaensebluemchen/
LOCATION:Anno 1900\, Schönfließer Str. 25 G\, Hohen Neuendorf\, 16540
ATTACH;FMTTYPE=image/jpeg:https://www.kulturkreis-hn.de/wp-content/uploads/2026/01/IMG-20260115-WA0005.jpeg
END:VEVENT
BEGIN:VEVENT
DTSTART;TZID=Europe/Berlin:20260327T190000
DTEND;TZID=Europe/Berlin:20260327T190000
DTSTAMP:20260423T131847
CREATED:20251127T141147Z
LAST-MODIFIED:20251127T141212Z
UID:5819-1774638000-1774638000@www.kulturkreis-hn.de
SUMMARY:"Wenn Türen sich öffnen" Lesung des Literarturcafés Schreibmut
DESCRIPTION:Türen öffnen sich – manchmal unerwartet\, mal leise\, mal mit einem großen Schwung. Dahinter warten Geschichten\, Begegnungen\, neue Wege. \nUnter dem Thema „Wenn Türen sich öffnen“ lädt die Autorengruppe Schreibmut zu einem Abend voller Worte und Klänge ein. Die Texte erzählen von Veränderungen\, von Aufbrüchen und von Augenblicken\, in denen das Leben eine neue Richtung nimmt. \nMal nachdenklich\, mal heiter\, mal rätselhaft – sie führen zu Orten\, an denen Vertrautes sich wandelt und Neues Gestalt annimmt. \nMusikalisch begleitet wird die Lesung von Andreas Bröge aus Hohen Neuendorf\, Singer-Songwriter mit feinem Gespür für die Zwischentöne des Lebens. \nEin Abend voller Geschichten\, Musik und offener Türen. \nPreis: 6 € (erm. 4 €) – nur Abendkasse \nBildrechte: Image by Tumisu from Pixabay
URL:https://www.kulturkreis-hn.de/veranstaltung/wenn-tueren-sich-oeffnen-lesung-des-literarturcafes-schreibmut/
LOCATION:Rathaus Hohen Neuendorf\, Oranienburger Str. 2\, Hohen Neuendorf\, 16540
ATTACH;FMTTYPE=image/jpeg:https://www.kulturkreis-hn.de/wp-content/uploads/2025/11/Image-by-Tumisu-from-Pixabay-door-5637438_1920.jpg
END:VEVENT
END:VCALENDAR